BEGIN:VCALENDAR
VERSION:2.0
PRODID:-//Tukios.com/
BEGIN:VEVENT
UID:115c3f9d-e78f-4b0a-85c6-e7a1635bedff@www.cookfamilyfuneralhome.com
DTSTAMP:20260422T191956Z
DTSTART:20260508T180000Z
DTEND:20260508T190000Z
SUMMARY:Funeral Service
DESCRIPTION:
URL:https://www.cookfamilyfuneralhome.com/obituaries/jane-sachs
LOCATION:St. Francis Xavier Mission 163 Spencer Road  Toledo WA 98591
GEO:46.4660557;-122.8209581
END:VEVENT
END:VCALENDAR