BEGIN:VCALENDAR
VERSION:2.0
PRODID:-//Tukios.com/
BEGIN:VEVENT
UID:0084956d-4b4f-4062-957f-fc026d32b233@www.cookfamilyfuneralhome.com
DTSTAMP:20260424T030634Z
DTSTART:20260613T200000Z
DTEND:20260613T210000Z
SUMMARY:Celebration of Life
DESCRIPTION:
URL:https://www.cookfamilyfuneralhome.com/obituaries/judith-brophy
LOCATION:The Kitsap Unitarian Universalist Church 4418 Perry Avenue 
	Northeast  Bremerton WA 98310
GEO:47.6056221;-122.6115588
END:VEVENT
END:VCALENDAR